BEGIN:VCALENDAR
VERSION:2.0
PRODID:-//ChamberMaster//Event Calendar 2.0//EN
METHOD:PUBLISH
X-PUBLISHED-TTL:P3D
REFRESH-INTERVAL:P3D
CALSCALE:GREGORIAN
BEGIN:VEVENT
DTSTART:20251026T020000Z
DTEND:20251026T030000Z
X-MICROSOFT-CDO-ALLDAYEVENT:FALSE
SUMMARY:Veterans Support Group
DESCRIPTION:Veterans Support Group meeting.
X-ALT-DESC;FMTTYPE=text/html:Veterans Support Group meeting.
LOCATION:Near Midway Market upstairs Lake of the Woods
UID:e.3044.8218
SEQUENCE:3
DTSTAMP:20260425T223552Z
URL:https://www.mymountainchamber.com/events/details/veterans-support-group-10-25-2025-8218
END:VEVENT

END:VCALENDAR
