BEGIN:VCALENDAR
VERSION:2.0
PRODID:-//ChamberMaster//Event Calendar 2.0//EN
METHOD:PUBLISH
X-PUBLISHED-TTL:P3D
REFRESH-INTERVAL:P3D
CALSCALE:GREGORIAN
BEGIN:VEVENT
DTSTART:20250527T013000Z
DTEND:20250527T023000Z
X-MICROSOFT-CDO-ALLDAYEVENT:FALSE
SUMMARY:Strength in Motion Fitness Class
DESCRIPTION:This class combines cardio\, strength\, balance\, and coordination to help increase strength\, improve stamina\, and function better in life!
X-ALT-DESC;FMTTYPE=text/html:This class combines cardio\, strength\, balance\, and coordination to help increase strength\, improve stamina\, and function better in life!
LOCATION:In the Wings Dance Studio Frazier Park
UID:e.3044.40861
SEQUENCE:3
DTSTAMP:20260425T135643Z
URL:https://www.mymountainchamber.com/events/details/strength-in-motion-fitness-class-05-26-2025-40861
END:VEVENT

END:VCALENDAR
