BEGIN:VCALENDAR
VERSION:2.0
PRODID:-//ChamberMaster//Event Calendar 2.0//EN
METHOD:PUBLISH
X-PUBLISHED-TTL:P3D
REFRESH-INTERVAL:P3D
CALSCALE:GREGORIAN
BEGIN:VEVENT
DTSTART:20250417T180000Z
DTEND:20250417T190000Z
X-MICROSOFT-CDO-ALLDAYEVENT:FALSE
SUMMARY:Senior Exercise
DESCRIPTION:AARP Senior Exercise in the Frazier Mountain Community Center Senior Room
X-ALT-DESC;FMTTYPE=text/html:AARP Senior Exercise in the Frazier Mountain Community Center Senior Room
LOCATION:Frazier Park Community Center 3801 Park Drive Frazier Park\, Ca 93225
UID:e.3044.39884
SEQUENCE:3
DTSTAMP:20260422T004820Z
URL:https://www.mymountainchamber.com/events/details/senior-exercise-04-17-2025-39884
END:VEVENT

END:VCALENDAR
