BEGIN:VCALENDAR
VERSION:2.0
PRODID:-//ChamberMaster//Event Calendar 2.0//EN
METHOD:PUBLISH
X-PUBLISHED-TTL:P3D
REFRESH-INTERVAL:P3D
CALSCALE:GREGORIAN
BEGIN:VEVENT
DTSTART:20250213T190000Z
DTEND:20250213T200000Z
X-MICROSOFT-CDO-ALLDAYEVENT:FALSE
SUMMARY:Senior Exercise
DESCRIPTION:AARP Senior Exercise in the Frazier Mountain Community Center Senior Room
X-ALT-DESC;FMTTYPE=text/html:AARP Senior Exercise in the Frazier Mountain Community Center Senior Room
LOCATION:Frazier Park Community Center 3801 Park Drive Frazier Park\, Ca 93225
UID:e.3044.39866
SEQUENCE:3
DTSTAMP:20260425T110617Z
URL:https://www.mymountainchamber.com/events/details/senior-exercise-02-13-2025-39866
END:VEVENT

END:VCALENDAR
