BEGIN:VCALENDAR
VERSION:2.0
PRODID:-//ChamberMaster//Event Calendar 2.0//EN
METHOD:PUBLISH
X-PUBLISHED-TTL:P3D
REFRESH-INTERVAL:P3D
CALSCALE:GREGORIAN
BEGIN:VEVENT
DTSTART:20250308T180000Z
DTEND:20250308T200000Z
X-MICROSOFT-CDO-ALLDAYEVENT:FALSE
SUMMARY:Scouts West 4x4 Club Meeting
DESCRIPTION:Scouts West 4x4 Club
X-ALT-DESC;FMTTYPE=text/html:Scouts West 4x4 Club
LOCATION:call John at 661-245-3250 for meeting location
UID:e.3044.12132
SEQUENCE:3
DTSTAMP:20260425T124041Z
URL:https://www.mymountainchamber.com/events/details/scouts-west-4x4-club-03-08-2025-12132
END:VEVENT

END:VCALENDAR
