BEGIN:VCALENDAR
VERSION:2.0
PRODID:-//ChamberMaster//Event Calendar 2.0//EN
METHOD:PUBLISH
X-PUBLISHED-TTL:P3D
REFRESH-INTERVAL:P3D
CALSCALE:GREGORIAN
BEGIN:VEVENT
DTSTART:20250830T160000Z
DTEND:20250830T220000Z
X-MICROSOFT-CDO-ALLDAYEVENT:FALSE
SUMMARY:Run to the Pines Auto Show
DESCRIPTION:Join us at the 25th Annual Run to the Pines Auto Show in Pine Mountain Club on Saturday\, August 30\, 2025. Vehicles of all kinds and ages are welcome. There will also be a vendor bazaar\, beer garden\, tasty fare\, and live music. 1st and 2nd place Awards in over 12 categories. Pre-registration is $40 per vehicle and includes a free t-shirt. Day of the show registration is $50. Rain or shine! Cars may enter starting at 7am. Visit our website to enter your vehicle today!
X-ALT-DESC;FMTTYPE=text/html:Join us at the 25th Annual Run to the Pines Auto Show in Pine Mountain Club on Saturday\, August 30\, 2025. Vehicles of all kinds and ages are welcome. There will also be a vendor bazaar\, beer garden\, tasty fare\, and live music. 1st and 2nd place Awards in over 12 categories. Pre-registration is $40 per vehicle and includes a free t-shirt. Day of the show registration is $50. Rain or shine! Cars may enter starting at 7am. Visit our website to enter your vehicle today!
LOCATION:Pine Mountain Club Village
UID:e.3044.41055
SEQUENCE:3
DTSTAMP:20260425T181450Z
URL:https://www.mymountainchamber.com/events/details/run-to-the-pines-auto-show-08-30-2025-41055
END:VEVENT

END:VCALENDAR
