BEGIN:VCALENDAR
VERSION:2.0
PRODID:-//ChamberMaster//Event Calendar 2.0//EN
METHOD:PUBLISH
X-PUBLISHED-TTL:P3D
REFRESH-INTERVAL:P3D
CALSCALE:GREGORIAN
BEGIN:VEVENT
DTSTART:20250524T170000Z
DTEND:20250524T220000Z
X-MICROSOFT-CDO-ALLDAYEVENT:FALSE
SUMMARY:Ridge Route Run Car Show
DESCRIPTION:This year's annual Ridge Route Run Car Show will be on Saturday May 24th\, 2025. The event is open to all classes of cars. More information can be found at MountainMemories.org. Vendor Spaces are limited. Public is invited to attend for FREE. Pre-Registration for vehicles is $45\, Day of Show is $50. There will be Food\, Music\, Vendors\, Children's activities and don't forget... CARS!
X-ALT-DESC;FMTTYPE=text/html:This year&#39\;s annual Ridge Route Run Car Show will be on Saturday May 24th\, 2025. The event is open to all classes of cars. More information can be found at MountainMemories.org. Vendor Spaces are limited. Public is invited to attend for FREE. Pre-Registration for vehicles is $45\, Day of Show is $50. There will be Food\, Music\, Vendors\, Children&#39\;s activities and don&#39\;t forget... CARS!
LOCATION:Downtown Frazier Park - Mt. Pinos Way
UID:e.3044.36999
SEQUENCE:3
DTSTAMP:20260425T135231Z
URL:https://www.mymountainchamber.com/events/details/ridge-route-run-car-show-36999
END:VEVENT

END:VCALENDAR
