BEGIN:VCALENDAR
VERSION:2.0
PRODID:-//ChamberMaster//Event Calendar 2.0//EN
METHOD:PUBLISH
X-PUBLISHED-TTL:P3D
REFRESH-INTERVAL:P3D
CALSCALE:GREGORIAN
BEGIN:VEVENT
DTSTART:20241016T210000Z
DTEND:20241016T220000Z
X-MICROSOFT-CDO-ALLDAYEVENT:FALSE
SUMMARY:Ridge Route Communities Museum Board Meeting
DESCRIPTION:Ridge Route Communities Museum Board Meeting
X-ALT-DESC;FMTTYPE=text/html:Ridge Route Communities Museum Board Meeting
LOCATION:Ridge Route Communities Museum 3515 Park Drive Frazier Park\, Ca 93225
UID:e.3044.37390
SEQUENCE:3
DTSTAMP:20260425T124111Z
URL:https://www.mymountainchamber.com/events/details/ridge-route-communities-museum-board-meeting-10-16-2024-37390
END:VEVENT

END:VCALENDAR
