BEGIN:VCALENDAR
VERSION:2.0
PRODID:-//ChamberMaster//Event Calendar 2.0//EN
METHOD:PUBLISH
X-PUBLISHED-TTL:P3D
REFRESH-INTERVAL:P3D
CALSCALE:GREGORIAN
BEGIN:VEVENT
DTSTART;VALUE=DATE:20250523
DTEND;VALUE=DATE:20250524
TRANSP:TRANSPARENT
X-MICROSOFT-CDO-ALLDAYEVENT:TRUE
SUMMARY:Ridge Route Car Show Kick Off Party
DESCRIPTION:Ridge Route Car Show Kick-Off Party\n\nLive Music
X-ALT-DESC;FMTTYPE=text/html:Ridge Route Car Show Kick-Off Party<br />\nLive Music
LOCATION:Caveman Cavey's Pizza 3620 Mount Pinos Way Frazier Park
UID:e.3044.40629
SEQUENCE:3
DTSTAMP:20260425T135359Z
URL:https://www.mymountainchamber.com/events/details/ridge-route-car-show-kick-off-party-40629
END:VEVENT

END:VCALENDAR
