BEGIN:VCALENDAR
VERSION:2.0
PRODID:-//ChamberMaster//Event Calendar 2.0//EN
METHOD:PUBLISH
X-PUBLISHED-TTL:P3D
REFRESH-INTERVAL:P3D
CALSCALE:GREGORIAN
BEGIN:VEVENT
DTSTART:20240711T190000Z
DTEND:20240711T190000Z
X-MICROSOFT-CDO-ALLDAYEVENT:FALSE
SUMMARY:Quilting and Crafts at the Library
DESCRIPTION:Quilting and Crafts in the Library
X-ALT-DESC;FMTTYPE=text/html:Quilting and Crafts in the Library
LOCATION:Frazier Park Library 3732 Park Drive Frazier Park\, Ca 93225
UID:e.3044.36326
SEQUENCE:3
DTSTAMP:20260421T083927Z
URL:https://www.mymountainchamber.com/events/details/quilting-and-crafts-at-the-library-07-11-2024-36326
END:VEVENT

END:VCALENDAR
