BEGIN:VCALENDAR
VERSION:2.0
PRODID:-//ChamberMaster//Event Calendar 2.0//EN
METHOD:PUBLISH
X-PUBLISHED-TTL:P3D
REFRESH-INTERVAL:P3D
CALSCALE:GREGORIAN
BEGIN:VEVENT
DTSTART:20250517T160000Z
DTEND:20250517T230000Z
X-MICROSOFT-CDO-ALLDAYEVENT:FALSE
SUMMARY:Quilt Show
DESCRIPTION:Pine Mountain Scrappers 2025 Quilt Show
X-ALT-DESC;FMTTYPE=text/html:Pine Mountain Scrappers 2025 Quilt Show
LOCATION:Lampkin Park\, Pine Mountain Club\, 93222
UID:e.3044.40635
SEQUENCE:3
DTSTAMP:20260425T135109Z
URL:https://www.mymountainchamber.com/events/details/quilt-show-40635
END:VEVENT

END:VCALENDAR
