BEGIN:VCALENDAR
VERSION:2.0
PRODID:-//ChamberMaster//Event Calendar 2.0//EN
METHOD:PUBLISH
X-PUBLISHED-TTL:P3D
REFRESH-INTERVAL:P3D
CALSCALE:GREGORIAN
BEGIN:VEVENT
DTSTART:20250502T010000Z
DTEND:20250502T020000Z
X-MICROSOFT-CDO-ALLDAYEVENT:FALSE
SUMMARY:Poetry Night
DESCRIPTION:On the first Thursday of every month\, Adventure Ink Bookstore and Artworks Community Gallery are collaborating on "POETRY NIGHT" where all ages are welcome to read their own work\, or share poems they like.  Or just come and listen.
X-ALT-DESC;FMTTYPE=text/html:On the first Thursday of every month\, Adventure Ink Bookstore and Artworks Community Gallery are collaborating on &quot\;POETRY NIGHT&quot\; where all ages are welcome to read their own work\, or share poems they like.&nbsp\; Or just come and listen.
LOCATION:Adventure Ink 16225 Askin Drive Pine Mountain Club
UID:e.3044.37554
SEQUENCE:3
DTSTAMP:20260425T135403Z
URL:https://www.mymountainchamber.com/events/details/poetry-night-05-01-2025-37554
END:VEVENT

END:VCALENDAR
