BEGIN:VCALENDAR
VERSION:2.0
PRODID:-//ChamberMaster//Event Calendar 2.0//EN
METHOD:PUBLISH
X-PUBLISHED-TTL:P3D
REFRESH-INTERVAL:P3D
CALSCALE:GREGORIAN
BEGIN:VEVENT
DTSTART:20250607T180000Z
DTEND:20250607T210000Z
X-MICROSOFT-CDO-ALLDAYEVENT:FALSE
SUMMARY:Mtn Communities Family Resource Center Annual Park Day and Resource Fair
DESCRIPTION:Join us for the Mtn Communities Family Resource Center Annual Park Day and Resource Fair! A free family-friendly event with fun activities\, food\, a clothing giveaway\, and various county agencies offering information on community resources.
X-ALT-DESC;FMTTYPE=text/html:<span style="color:rgb(8\, 8\, 9)\; font-family:segoe ui historic\,segoe ui\,helvetica\,arial\,sans-serif\; font-size:15px">Join us for the Mtn Communities Family Resource Center Annual Park Day and Resource Fair! A free family-friendly event with fun activities\, food\, a clothing giveaway\, and various county agencies offering information on community resources.</span>
LOCATION:Frazier Mountain Park 3801 Park Drive Frazier Park\, CA 93225
UID:e.3044.41056
SEQUENCE:3
DTSTAMP:20260425T152434Z
URL:https://www.mymountainchamber.com/events/details/mtn-communities-family-resource-center-annual-park-day-and-resource-fair-41056
END:VEVENT

END:VCALENDAR
