BEGIN:VCALENDAR
VERSION:2.0
PRODID:-//ChamberMaster//Event Calendar 2.0//EN
METHOD:PUBLISH
X-PUBLISHED-TTL:P3D
REFRESH-INTERVAL:P3D
CALSCALE:GREGORIAN
BEGIN:VEVENT
DTSTART:20250514T010000Z
DTEND:20250514T030000Z
X-MICROSOFT-CDO-ALLDAYEVENT:FALSE
SUMMARY:Mountain Communities CERT
DESCRIPTION:Mountain Communities CERT
X-ALT-DESC;FMTTYPE=text/html:Mountain Communities CERT&nbsp\;
LOCATION:Caveman Cavey's 3620 Mt. Pinos Way Frazier Park\, Ca. 93225
UID:e.3044.37266
SEQUENCE:3
DTSTAMP:20260425T135255Z
URL:https://www.mymountainchamber.com/events/details/mountain-communities-cert-05-13-2025-37266
END:VEVENT

END:VCALENDAR
