BEGIN:VCALENDAR
VERSION:2.0
PRODID:-//ChamberMaster//Event Calendar 2.0//EN
METHOD:PUBLISH
X-PUBLISHED-TTL:P3D
REFRESH-INTERVAL:P3D
CALSCALE:GREGORIAN
BEGIN:VEVENT
DTSTART:20250625T180000Z
DTEND:20250625T190000Z
X-MICROSOFT-CDO-ALLDAYEVENT:FALSE
SUMMARY:MCFRC Children's Circle
DESCRIPTION:The Mountain Communities Family Resource Center Children's Circle\n\nChildren of all ages are invited for games\, fun\, crafts.
X-ALT-DESC;FMTTYPE=text/html:<strong><span style="font-family:comic sans ms\;"><span style="font-size:12px\;">The Mountain Communities Family Resource Center Children&#39\;s Circle<br />\nChildren of all ages are invited for games\, fun\, crafts.</span></span></strong>
LOCATION:Frazier Mountain Park 3801 Park Drive Frazier Park
UID:e.3044.39508
SEQUENCE:3
DTSTAMP:20260425T164131Z
URL:https://www.mymountainchamber.com/events/details/mcfrc-children-s-circle-06-25-2025-39508
END:VEVENT

END:VCALENDAR
