BEGIN:VCALENDAR
VERSION:2.0
PRODID:-//ChamberMaster//Event Calendar 2.0//EN
METHOD:PUBLISH
X-PUBLISHED-TTL:P3D
REFRESH-INTERVAL:P3D
CALSCALE:GREGORIAN
BEGIN:VEVENT
DTSTART:20251003T010000Z
DTEND:20251003T020000Z
X-MICROSOFT-CDO-ALLDAYEVENT:FALSE
SUMMARY:Lake of the Woods Mutual Water Company Board Meeting
DESCRIPTION:Lake of the Woods Mutual Water Company Board Meeitng
X-ALT-DESC;FMTTYPE=text/html:Lake of the Woods Mutual Water Company Board Meeitng
LOCATION:3534 Mt. Pinos Way Frazier Park\, CA 93225
UID:e.3044.9799
SEQUENCE:3
DTSTAMP:20260425T210409Z
URL:https://www.mymountainchamber.com/events/details/low-mutual-water-co-10-02-2025-9799
END:VEVENT

END:VCALENDAR
