BEGIN:VCALENDAR
VERSION:2.0
PRODID:-//ChamberMaster//Event Calendar 2.0//EN
METHOD:PUBLISH
X-PUBLISHED-TTL:P3D
REFRESH-INTERVAL:P3D
CALSCALE:GREGORIAN
BEGIN:VEVENT
DTSTART;VALUE=DATE:20250517
DTEND;VALUE=DATE:20250519
TRANSP:TRANSPARENT
X-MICROSOFT-CDO-ALLDAYEVENT:TRUE
SUMMARY:Lilac Festival
DESCRIPTION:Join us in celebrating the arrival of Spring in PMC - with dozens of arts and crafts booths\, unique shops\, tasty fare from local vendors and restaurants\, live music\, and more!
X-ALT-DESC;FMTTYPE=text/html:Join us in celebrating the arrival of Spring in PMC - with dozens of arts and crafts booths\, unique shops\, tasty fare from local vendors and restaurants\, live music\, and more!
LOCATION:Pine Mountain Club\, CA
UID:e.3044.40632
SEQUENCE:3
DTSTAMP:20260425T135231Z
URL:https://www.mymountainchamber.com/events/details/lilac-festival-40632
END:VEVENT

END:VCALENDAR
