BEGIN:VCALENDAR
VERSION:2.0
PRODID:-//ChamberMaster//Event Calendar 2.0//EN
METHOD:PUBLISH
X-PUBLISHED-TTL:P3D
REFRESH-INTERVAL:P3D
CALSCALE:GREGORIAN
BEGIN:VEVENT
DTSTART:20251015T020000Z
DTEND:20251015T030000Z
X-MICROSOFT-CDO-ALLDAYEVENT:FALSE
SUMMARY:Lebec County Water District Board
DESCRIPTION:Lebec County Water District Board meeting.
X-ALT-DESC;FMTTYPE=text/html:Lebec County Water District Board&nbsp\;meeting.
LOCATION:2037 Lebec Rd.
UID:e.3044.10709
SEQUENCE:3
DTSTAMP:20260425T210415Z
URL:https://www.mymountainchamber.com/events/details/lebec-county-water-district-board-10-14-2025-10709
END:VEVENT

END:VCALENDAR
