BEGIN:VCALENDAR
VERSION:2.0
PRODID:-//ChamberMaster//Event Calendar 2.0//EN
METHOD:PUBLISH
X-PUBLISHED-TTL:P3D
REFRESH-INTERVAL:P3D
CALSCALE:GREGORIAN
BEGIN:VEVENT
DTSTART:20251126T010000Z
DTEND:20251126T020000Z
X-MICROSOFT-CDO-ALLDAYEVENT:FALSE
SUMMARY:Kern Fire Safe Council Live Webinar
DESCRIPTION:Kern Fire Safe Council presents a Live Webinar on the 4th Tuesday of each month. Ask the experts.\n\nTopic and Register at kernfiresafe.org
X-ALT-DESC;FMTTYPE=text/html:Kern Fire Safe Council presents a Live Webinar on the 4th Tuesday of each month. Ask the experts.<br />\nTopic and Register at kernfiresafe.org
LOCATION:Virtual Event Register at kernfiresafe.org
UID:e.3044.36911
SEQUENCE:3
DTSTAMP:20260425T224452Z
URL:https://www.mymountainchamber.com/events/details/kern-fire-safe-council-live-webinar-11-25-2025-36911
END:VEVENT

END:VCALENDAR
