BEGIN:VCALENDAR
VERSION:2.0
PRODID:-//ChamberMaster//Event Calendar 2.0//EN
METHOD:PUBLISH
X-PUBLISHED-TTL:P3D
REFRESH-INTERVAL:P3D
CALSCALE:GREGORIAN
BEGIN:VEVENT
DTSTART:20251003T010000Z
DTEND:20251003T020000Z
X-MICROSOFT-CDO-ALLDAYEVENT:FALSE
SUMMARY:Kern County Sheriff - Meet Sgt. Medina
DESCRIPTION:Meet our new Substation Deputy\, Sgt. Medina
X-ALT-DESC;FMTTYPE=text/html:Meet our new Substation Deputy\, Sgt. Medina
LOCATION:Frazier Park Library 3732 Park Drive
UID:e.3044.41075
SEQUENCE:3
DTSTAMP:20260425T224010Z
URL:https://www.mymountainchamber.com/events/details/kern-county-sheriff-meet-sgt-medina-41075
END:VEVENT

END:VCALENDAR
