BEGIN:VCALENDAR
VERSION:2.0
PRODID:-//ChamberMaster//Event Calendar 2.0//EN
METHOD:PUBLISH
X-PUBLISHED-TTL:P3D
REFRESH-INTERVAL:P3D
CALSCALE:GREGORIAN
BEGIN:VEVENT
DTSTART:20250716T160000Z
DTEND:20250716T190000Z
X-MICROSOFT-CDO-ALLDAYEVENT:FALSE
SUMMARY:Kern County Family Justice Center Information Booth and Intake Station
DESCRIPTION:Our centers are a unique and safe place where victims of domestic violence\, human trafficking\, and sexual assault are our highest priority. Through collaboration and coordinated services\, our centers and its partners are committed to providing victims and their children the help they need to break the cycle of violence that so often damages and destroys families. We'll be in the community to host a one-day information booth. Learn more about our FREE services and begin the intake process. To learn more about our centers\, visit kcfjc.org.
X-ALT-DESC;FMTTYPE=text/html:Our centers are a unique and safe place where victims of domestic violence\, human trafficking\, and sexual assault are our highest priority. Through collaboration and coordinated services\, our centers and its partners are committed to providing victims and their children the help they need to break the cycle of violence that so often damages and destroys families. We&#39\;ll be in the community to host a one-day information booth. Learn more about our FREE services and begin the intake process. To learn more about our centers\, visit kcfjc.org.
LOCATION:Mountain Communities Family Resource Center 3015 Mount Pinos Way\, Frazier Park\, CA 93225
UID:e.3044.41065
SEQUENCE:3
DTSTAMP:20260425T164431Z
URL:https://www.mymountainchamber.com/events/details/kern-county-family-justice-center-information-booth-and-intake-station-07-16-2025-41065
END:VEVENT

END:VCALENDAR
