BEGIN:VCALENDAR
VERSION:2.0
PRODID:-//ChamberMaster//Event Calendar 2.0//EN
METHOD:PUBLISH
X-PUBLISHED-TTL:P3D
REFRESH-INTERVAL:P3D
CALSCALE:GREGORIAN
BEGIN:VEVENT
DTSTART:20250211T233000Z
DTEND:20250212T003000Z
X-MICROSOFT-CDO-ALLDAYEVENT:FALSE
SUMMARY:Gorman Elementary School Board
DESCRIPTION:Gorman Elementary School Board meeting.
X-ALT-DESC;FMTTYPE=text/html:Gorman Elementary School Board&nbsp\;meeting.
LOCATION:At the school.
UID:e.3044.10571
SEQUENCE:3
DTSTAMP:20260425T110519Z
URL:https://www.mymountainchamber.com/events/details/gorman-elementary-school-board-02-11-2025-10571
END:VEVENT

END:VCALENDAR
