BEGIN:VCALENDAR
VERSION:2.0
PRODID:-//ChamberMaster//Event Calendar 2.0//EN
METHOD:PUBLISH
X-PUBLISHED-TTL:P3D
REFRESH-INTERVAL:P3D
CALSCALE:GREGORIAN
BEGIN:VEVENT
DTSTART;VALUE=DATE:20250628
DTEND;VALUE=DATE:20250629
TRANSP:TRANSPARENT
X-MICROSOFT-CDO-ALLDAYEVENT:TRUE
SUMMARY:Frazier Mtn Pride's 1st Annual Pride Day
DESCRIPTION:?????? Get Ready for Frazier Mtn Pride's 1st Annual Pride Day hosted by Adventure Ink and The Storyteller's Cafe in Pine Mountain Club on JUNE 28\, 2025 ?????? ?? Where joy is loud\, love is fierce\, and everyone shines ?? Join us for an epic day of celebration as we turn up the volume on self-expression\, creativity\, and community! We'll be dancing in the aisles\, belting out our favorite tunes\, and making art that speaks from the soul. This is an all ages event and kid friendly.
X-ALT-DESC;FMTTYPE=text/html:?????? Get Ready for Frazier Mtn Pride&#39\;s 1st Annual Pride Day hosted by Adventure Ink and The Storyteller&#39\;s Cafe in Pine Mountain Club on JUNE 28\, 2025 ?????? ?? Where joy is loud\, love is fierce\, and everyone shines ?? Join us for an epic day of celebration as we turn up the volume on self-expression\, creativity\, and community! We&rsquo\;ll be dancing in the aisles\, belting out our favorite tunes\, and making art that speaks from the soul. This is an all ages event and kid friendly.
LOCATION:16225 Askin Dr\, Pine Mountain Club\, CA 93222-4070\, United States
UID:e.3044.41066
SEQUENCE:3
DTSTAMP:20260425T153731Z
URL:https://www.mymountainchamber.com/events/details/frazier-mtn-pride-s-1st-annual-pride-day-41066
END:VEVENT

END:VCALENDAR
