BEGIN:VCALENDAR
VERSION:2.0
PRODID:-//ChamberMaster//Event Calendar 2.0//EN
METHOD:PUBLISH
X-PUBLISHED-TTL:P3D
REFRESH-INTERVAL:P3D
CALSCALE:GREGORIAN
BEGIN:VEVENT
DTSTART:20250801T220000Z
DTEND:20250802T050000Z
X-MICROSOFT-CDO-ALLDAYEVENT:FALSE
SUMMARY:Fiesta Days
DESCRIPTION:The 56th annual Fiesta Days will be held August 1\, 2\, & 3\, 2025 at Frazier Mountain Park in Frazier Park\, CA.\n\n\n\nAdmission is FREE to the public.\n\n\n\nLive music\, Vendors\, Family Games & Events.\n\n\n\nBeer & Carnival rides ($)
X-ALT-DESC;FMTTYPE=text/html:The 56th annual Fiesta Days will be held August 1\, 2\, &amp\; 3\, 2025 at Frazier Mountain Park in Frazier Park\, CA.<br />\n<br />\nAdmission is FREE to the public.<br />\n<br />\nLive music\, Vendors\, Family Games &amp\; Events.<br />\n<br />\nBeer &amp\; Carnival rides ($)
LOCATION:Frazier Mountain Park\, 3801 Park Dr in Frazier Park\, CA. 93225
UID:e.3044.40487
SEQUENCE:3
DTSTAMP:20260425T181139Z
URL:https://www.mymountainchamber.com/events/details/fiesta-days-08-04-2023-40487
END:VEVENT

END:VCALENDAR
