BEGIN:VCALENDAR
VERSION:2.0
PRODID:-//ChamberMaster//Event Calendar 2.0//EN
METHOD:PUBLISH
X-PUBLISHED-TTL:P3D
REFRESH-INTERVAL:P3D
CALSCALE:GREGORIAN
BEGIN:VEVENT
DTSTART:20251019T010000Z
DTEND:20251019T043000Z
X-MICROSOFT-CDO-ALLDAYEVENT:FALSE
SUMMARY:Chamber's 3rd Annual Casino Night
DESCRIPTION:Pre-registration now available at ACE Hardware for $25.00\n\nTickets at the door will be $35.000\n\nMUST BE 21 AND OVER
X-ALT-DESC;FMTTYPE=text/html:Pre-registration now available at ACE Hardware for $25.00<br />\nTickets at the door will be $35.000<br />\nMUST BE 21 AND OVER
LOCATION:Frazier Park Recreation Building 3801 Park Drive Frazier Park\, CA 93225
UID:e.3044.41076
SEQUENCE:3
DTSTAMP:20260425T210359Z
URL:https://www.mymountainchamber.com/events/details/chamber-s-3rd-annual-casino-night-41076
END:VEVENT

END:VCALENDAR
