BEGIN:VCALENDAR
VERSION:2.0
PRODID:-//ChamberMaster//Event Calendar 2.0//EN
METHOD:PUBLISH
X-PUBLISHED-TTL:P3D
REFRESH-INTERVAL:P3D
CALSCALE:GREGORIAN
BEGIN:VEVENT
DTSTART:20250702T173000Z
DTEND:20250702T190000Z
X-MICROSOFT-CDO-ALLDAYEVENT:FALSE
SUMMARY:Chamber Roundtable with State\, County\, & Agency Rep
DESCRIPTION:These meetings proved to be a viable means of bringing together agencies working to maintain and improve our mountain region.
X-ALT-DESC;FMTTYPE=text/html:These meetings proved to be a viable means of bringing together agencies working to maintain and improve our mountain region.
LOCATION:Chuchupate Ranger Station 3480 Lockwood Valley Road Frazier Park\, CA 93225
UID:e.3044.41067
SEQUENCE:3
DTSTAMP:20260425T164044Z
URL:https://www.mymountainchamber.com/events/details/chamber-roundtable-with-state-county-agency-rep-41067
END:VEVENT

END:VCALENDAR
