BEGIN:VCALENDAR
VERSION:2.0
PRODID:-//ChamberMaster//Event Calendar 2.0//EN
METHOD:PUBLISH
X-PUBLISHED-TTL:P3D
REFRESH-INTERVAL:P3D
CALSCALE:GREGORIAN
BEGIN:VEVENT
DTSTART:20250425T010000Z
DTEND:20250425T030000Z
X-MICROSOFT-CDO-ALLDAYEVENT:FALSE
SUMMARY:Chamber Of Commerce Mixer @ Cavey's
DESCRIPTION:Please join us for a mixer at Caveman Cavey's.  This is an opportunity to meet other Chamber members or visit with Board members.  These events are always a good time.
X-ALT-DESC;FMTTYPE=text/html:Please join us for a mixer at Caveman Cavey&#39\;s.&nbsp\; This is an opportunity to meet other Chamber members or visit with Board members.&nbsp\; These events are always a good time.
LOCATION:3620 Mount Pinos Way Frazier Park\, CA 93225
UID:e.3044.40631
SEQUENCE:3
DTSTAMP:20260425T135458Z
URL:https://www.mymountainchamber.com/events/details/chamber-of-commerce-mixer-cavey-s-40631
END:VEVENT

END:VCALENDAR
