BEGIN:VCALENDAR
VERSION:2.0
PRODID:-//ChamberMaster//Event Calendar 2.0//EN
METHOD:PUBLISH
X-PUBLISHED-TTL:P3D
REFRESH-INTERVAL:P3D
CALSCALE:GREGORIAN
BEGIN:VEVENT
DTSTART:20250323T010000Z
DTEND:20250323T040000Z
X-MICROSOFT-CDO-ALLDAYEVENT:FALSE
SUMMARY:BINGO Night at the VFW
DESCRIPTION:BINGO is Back.  Every Friday night at the VFW!
X-ALT-DESC;FMTTYPE=text/html:BINGO is Back.&nbsp\; Every Friday night at the VFW!
LOCATION:VFW Post 9791 612 Canada Trail Frazier Park
UID:e.3044.39188
SEQUENCE:3
DTSTAMP:20260425T124133Z
URL:https://www.mymountainchamber.com/events/details/bingo-night-at-the-vfw-03-22-2025-39188
END:VEVENT

END:VCALENDAR
