BEGIN:VCALENDAR
VERSION:2.0
PRODID:-//ChamberMaster//Event Calendar 2.0//EN
METHOD:PUBLISH
X-PUBLISHED-TTL:P3D
REFRESH-INTERVAL:P3D
CALSCALE:GREGORIAN
BEGIN:VEVENT
DTSTART:20250613T013000Z
DTEND:20250613T030000Z
X-MICROSOFT-CDO-ALLDAYEVENT:FALSE
SUMMARY:Artflix @ Artworks
DESCRIPTION:Artflix@Artworks\n\n8/12......Eve Hesse\n\n8/26.....Mona Lisa Smile\n\n9/9......Andy Warhol\n\n9/23.....Cadillac Records\n\n10/14...The Dance of Reality\n\n10/28...Trumbo\n\n11/11...Gaugin-the Full Story\n\n11/25...Amelie\n\n12/9....Paris-The Luminous years\n\n12/23...Sirens Be Seduced
X-ALT-DESC;FMTTYPE=text/html:<span style="font-size:14px\;"><span style="font-family:comic sans ms\;"><strong>Artflix@Artworks</strong><br />\n<span style="font-size:11px\;">8/12......Eve Hesse<br />\n8/26.....Mona Lisa Smile<br />\n9/9......Andy Warhol<br />\n9/23.....Cadillac Records<br />\n10/14...The Dance of Reality<br />\n10/28...Trumbo<br />\n11/11...Gaugin-the Full Story<br />\n11/25...Amelie<br />\n12/9....Paris-The Luminous years<br />\n12/23...Sirens Be Seduced</span></span></span><br />\n<br />\n<br />\n&nbsp\;
LOCATION:Artworks Community Gallery 16233 Pine Valley Lane Pine Mountain Club
UID:e.3044.33944
SEQUENCE:3
DTSTAMP:20260425T152204Z
URL:https://www.mymountainchamber.com/events/details/artflix-artworks-06-12-2025-33944
END:VEVENT

END:VCALENDAR
