BEGIN:VCALENDAR
VERSION:2.0
PRODID:-//ChamberMaster//Event Calendar 2.0//EN
METHOD:PUBLISH
X-PUBLISHED-TTL:P3D
REFRESH-INTERVAL:P3D
CALSCALE:GREGORIAN
BEGIN:VEVENT
DTSTART:20250312T010000Z
DTEND:20250312T010000Z
X-MICROSOFT-CDO-ALLDAYEVENT:FALSE
SUMMARY:Alcoholics Anonymous
DESCRIPTION:AA Men's Stag
X-ALT-DESC;FMTTYPE=text/html:AA Men&#39\;s Stag
LOCATION:PMC\, behind the gas station
UID:e.3044.34564
SEQUENCE:3
DTSTAMP:20260425T110500Z
URL:https://www.mymountainchamber.com/events/details/alcoholics-anonymous-03-11-2025-34564
END:VEVENT

END:VCALENDAR
