BEGIN:VCALENDAR
VERSION:2.0
PRODID:-//ChamberMaster//Event Calendar 2.0//EN
METHOD:PUBLISH
X-PUBLISHED-TTL:P3D
REFRESH-INTERVAL:P3D
CALSCALE:GREGORIAN
BEGIN:VEVENT
DTSTART:20250212T020000Z
DTEND:20250212T020000Z
X-MICROSOFT-CDO-ALLDAYEVENT:FALSE
SUMMARY:Alcoholics Anonymous
DESCRIPTION:AA Men's Stag
X-ALT-DESC;FMTTYPE=text/html:AA Men&#39\;s Stag
LOCATION:PMC\, behind the gas station
UID:e.3044.34560
SEQUENCE:3
DTSTAMP:20260425T110600Z
URL:https://www.mymountainchamber.com/events/details/alcoholics-anonymous-02-11-2025-34560
END:VEVENT

END:VCALENDAR
