BEGIN:VCALENDAR
VERSION:2.0
PRODID:-//ChamberMaster//Event Calendar 2.0//EN
METHOD:PUBLISH
X-PUBLISHED-TTL:P3D
REFRESH-INTERVAL:P3D
CALSCALE:GREGORIAN
BEGIN:VEVENT
DTSTART:20251122T170000Z
DTEND:20251122T180000Z
X-MICROSOFT-CDO-ALLDAYEVENT:FALSE
SUMMARY:AA Live and in-person
DESCRIPTION:AA Meeting
X-ALT-DESC;FMTTYPE=text/html:AA Meeting
LOCATION:Pinon Pines Water Company Building 1647 Tecuya Dr. Pinon Pines Frazier Park\, 93225
UID:e.3044.38069
SEQUENCE:3
DTSTAMP:20260425T224528Z
URL:https://www.mymountainchamber.com/events/details/aa-live-and-in-person-11-22-2025-38069
END:VEVENT

END:VCALENDAR
