BEGIN:VCALENDAR
VERSION:2.0
PRODID:-//ChamberMaster//Event Calendar 2.0//EN
METHOD:PUBLISH
X-PUBLISHED-TTL:P3D
REFRESH-INTERVAL:P3D
CALSCALE:GREGORIAN
BEGIN:VEVENT
DTSTART:20251206T030000Z
DTEND:20251206T040000Z
X-MICROSOFT-CDO-ALLDAYEVENT:FALSE
SUMMARY:AA
DESCRIPTION:Alcoholics Anonymous
X-ALT-DESC;FMTTYPE=text/html:Alcoholics Anonymous
LOCATION:Reflexions 47 Church 729 Pomona Trail Frazier Park\, Ca 93225
UID:e.3044.38883
SEQUENCE:3
DTSTAMP:20260426T013201Z
URL:https://www.mymountainchamber.com/events/details/aa-12-05-2025-38883
END:VEVENT

END:VCALENDAR
