BEGIN:VCALENDAR
VERSION:2.0
PRODID:-//ChamberMaster//Event Calendar 2.0//EN
METHOD:PUBLISH
X-PUBLISHED-TTL:P3D
REFRESH-INTERVAL:P3D
CALSCALE:GREGORIAN
BEGIN:VEVENT
DTSTART:20251108T030000Z
DTEND:20251108T040000Z
X-MICROSOFT-CDO-ALLDAYEVENT:FALSE
SUMMARY:AA
DESCRIPTION:Alcoholics Anonymous
X-ALT-DESC;FMTTYPE=text/html:Alcoholics Anonymous
LOCATION:Reflexions 47 Church 729 Pomona Trail Frazier Park\, Ca 93225
UID:e.3044.38879
SEQUENCE:3
DTSTAMP:20260425T223527Z
URL:https://www.mymountainchamber.com/events/details/aa-11-07-2025-38879
END:VEVENT

END:VCALENDAR
