BEGIN:VCALENDAR
VERSION:2.0
PRODID:-//ChamberMaster//Event Calendar 2.0//EN
METHOD:PUBLISH
X-PUBLISHED-TTL:P3D
REFRESH-INTERVAL:P3D
CALSCALE:GREGORIAN
BEGIN:VEVENT
DTSTART:20220921T020000Z
DTEND:20220921T030000Z
X-MICROSOFT-CDO-ALLDAYEVENT:FALSE
SUMMARY:AA
DESCRIPTION:Alcoholics Anonymous
X-ALT-DESC;FMTTYPE=text/html:Alcoholics Anonymous
LOCATION:Reflexion 47 Church 729 Pomona Trail Frazier Park\, Ca 93225
UID:e.3044.38639
SEQUENCE:3
DTSTAMP:20260423T010218Z
URL:https://www.mymountainchamber.com/events/details/aa-09-20-2022-38639
END:VEVENT

END:VCALENDAR
