BEGIN:VCALENDAR
VERSION:2.0
PRODID:-//ChamberMaster//Event Calendar 2.0//EN
METHOD:PUBLISH
X-PUBLISHED-TTL:P3D
REFRESH-INTERVAL:P3D
CALSCALE:GREGORIAN
BEGIN:VEVENT
DTSTART:20250329T170000Z
DTEND:20250330T220000Z
X-MICROSOFT-CDO-ALLDAYEVENT:FALSE
SUMMARY:10th Annual Spring Nature Festival - Wind Wolves Preserve
DESCRIPTION:The Wildlands Conservancy invites you to join us at Wind Wolves Preserve this spring to "Behold the Beauty" of our natural wonders at our 10th Annual Spring Nature Festival! With educational booths from a variety of local organizations and activities such as educational booths\, reptile presentations\, pond discovery\, a planting station\, and so much more\, the festival is an event the whole family will enjoy! All activities and entrance to the preserve are FREE! Bilingual (English/Spanish) programs will also be available (programas tambi n ofrecidos en espa ol). No reservations required. Saturday and Sunday 10am-3pm
X-ALT-DESC;FMTTYPE=text/html:The Wildlands Conservancy invites you to join us at Wind Wolves Preserve this spring to &ldquo\;Behold the Beauty&rdquo\; of our natural wonders at our 10th Annual Spring Nature Festival! With educational booths from a variety of local organizations and activities such as educational booths\, reptile presentations\, pond discovery\, a planting station\, and so much more\, the festival is an event the whole family will enjoy! All activities and entrance to the preserve are FREE! Bilingual (English/Spanish) programs will also be available (programas tambi&eacute\;n ofrecidos en espa&ntilde\;ol). No reservations required. Saturday and Sunday 10am-3pm
LOCATION:Wind Wolves Preserve - 16019 Maricopa Hwy\, Bakersfield\, CA 93311
UID:e.3044.40628
SEQUENCE:3
DTSTAMP:20260425T110918Z
URL:https://www.mymountainchamber.com/events/details/10th-annual-spring-nature-festival-wind-wolves-preserve-40628
END:VEVENT

END:VCALENDAR
