BEGIN:VCALENDAR
VERSION:2.0
PRODID:-//ChamberMaster//Event Calendar 2.0//EN
METHOD:PUBLISH
X-PUBLISHED-TTL:P3D
REFRESH-INTERVAL:P3D
CALSCALE:GREGORIAN
BEGIN:VEVENT
DTSTART:20250621T210000Z
DTEND:20250622T053000Z
X-MICROSOFT-CDO-ALLDAYEVENT:FALSE
SUMMARY:100th Year Birthday Celebration of Frazier Park\, Lake of the Woods\, & Lockwood Valley
DESCRIPTION:
X-ALT-DESC;FMTTYPE=text/html:
LOCATION:
UID:e.3044.40633
SEQUENCE:3
DTSTAMP:20260425T152332Z
URL:https://www.mymountainchamber.com/events/details/100th-year-birthday-celebration-of-frazier-park-lake-of-the-woods-lockwood-valley-40633
END:VEVENT

END:VCALENDAR
